BEGIN:VCALENDAR
VERSION:2.0
PRODID:-//RIGHTHERE//CALENDARIZE IT V3.2//EN
BEGIN:VEVENT
UID:3466-events@glenoakcc.com
DTSTART;VALUE=DATE:20260516
DTEND;VALUE=DATE:20260516
DTSTAMP:20210219T175142Z
SUMMARY:Men’s & Women’s Oliver Moon Qualifier
URL:https://glenoakcc.com/events/mens-oliver-moon-qualifier/
END:VEVENT
END:VCALENDAR